BEGIN:VCALENDAR
VERSION:2.0
PRODID:spatie/icalendar-generator
DESCRIPTION:Evenementen van De vrienden van Hanepraij
X-WR-CALDESC:Evenementen van De vrienden van Hanepraij
REFRESH-INTERVAL;VALUE=DURATION:PT1440M
X-PUBLISHED-TTL:PT1440M
BEGIN:VTIMEZONE
TZID:Etc/GMT+0
BEGIN:STANDARD
DTSTART:20190520T000000Z
TZOFFSETFROM:+0000
TZOFFSETTO:+0000
END:STANDARD
END:VTIMEZONE
BEGIN:VTIMEZONE
TZID:UTC
BEGIN:STANDARD
DTSTART:20250727T180141Z
TZOFFSETFROM:+0000
TZOFFSETTO:+0000
END:STANDARD
END:VTIMEZONE
BEGIN:VEVENT
UID:19-19
DTSTAMP:20260423T180141Z
SUMMARY:Valentijns- of vriendendag
LOCATION:
ORGANIZER;CN=Hellen Sturm:MAILTO:helpdesk@studio182.nl
RRULE:FREQ=YEARLY;BYMONTH=02;BYDAY=14;COUNT=5
DTSTART;TZID=Etc/GMT+0;VALUE=DATE:20200214
DTEND;TZID=Etc/GMT+0;VALUE=DATE:20200215
X-ALT-DESC;FMTTYPE=TEXT/HTML:Op deze dag worden er altijd bloemen (meestal 
 narcissen) naar de afdelingen gebracht met wat lekkers voor de bewoners e
 n verzorging.
CATEGORIES:General
URL;VALUE=URI:https://vriendenvandehanepraij.nl/mc-events/valentijns-of-vri
 endendag/?mc_id=19
METHOD:PUBLISH
END:VEVENT
END:VCALENDAR