BEGIN:VCALENDAR
VERSION:2.0
PRODID:spatie/icalendar-generator
DESCRIPTION:Evenementen van De vrienden van Hanepraij
X-WR-CALDESC:Evenementen van De vrienden van Hanepraij
REFRESH-INTERVAL;VALUE=DURATION:PT1440M
X-PUBLISHED-TTL:PT1440M
BEGIN:VTIMEZONE
TZID:Etc/GMT+0
BEGIN:STANDARD
DTSTART:20180612T150000Z
TZOFFSETFROM:+0000
TZOFFSETTO:+0000
END:STANDARD
END:VTIMEZONE
BEGIN:VTIMEZONE
TZID:UTC
BEGIN:STANDARD
DTSTART:20250727T214309Z
TZOFFSETFROM:+0000
TZOFFSETTO:+0000
END:STANDARD
END:VTIMEZONE
BEGIN:VEVENT
UID:26-22
DTSTAMP:20260423T214309Z
SUMMARY:Vrienden-matinee
LOCATION:
ORGANIZER;CN=Hellen Sturm:MAILTO:helpdesk@studio182.nl
DTSTART;TZID=Etc/GMT+0:20190309T150000
DTEND;TZID=Etc/GMT+0:20190309T170000
X-ALT-DESC;FMTTYPE=TEXT/HTML:.. nog open omdat een week later NL doet er i
 s.
CATEGORIES:General
URL;VALUE=URI:https://vriendenvandehanepraij.nl/mc-events/vrienden-matinee-
 3/
METHOD:PUBLISH
END:VEVENT
END:VCALENDAR