BEGIN:VCALENDAR
VERSION:2.0
PRODID:spatie/icalendar-generator
DESCRIPTION:Evenementen van De vrienden van Hanepraij
X-WR-CALDESC:Evenementen van De vrienden van Hanepraij
REFRESH-INTERVAL;VALUE=DURATION:PT1440M
X-PUBLISHED-TTL:PT1440M
BEGIN:VTIMEZONE
TZID:Etc/GMT+0
BEGIN:STANDARD
DTSTART:20180720T000000Z
TZOFFSETFROM:+0000
TZOFFSETTO:+0000
END:STANDARD
END:VTIMEZONE
BEGIN:VTIMEZONE
TZID:UTC
BEGIN:STANDARD
DTSTART:20250727T191513Z
TZOFFSETFROM:+0000
TZOFFSETTO:+0000
END:STANDARD
END:VTIMEZONE
BEGIN:VEVENT
UID:30-26
DTSTAMP:20260423T191513Z
SUMMARY:Gouda-dag
LOCATION:
ORGANIZER;CN=Hellen Sturm:MAILTO:helpdesk@studio182.nl
DTSTART;TZID=Etc/GMT+0;VALUE=DATE:20190416
DTEND;TZID=Etc/GMT+0;VALUE=DATE:20190417
X-ALT-DESC;FMTTYPE=TEXT/HTML:Bestuurslid Jo Brussaard gaat een aantal klein
 e kaarsen verkopen en secretaris Netty van der Linde is aanwezig om te pro
 beren nieuwe leden binnen te halen voor de vereniging.
CATEGORIES:General
URL;VALUE=URI:https://vriendenvandehanepraij.nl/mc-events/gouda-dag/
METHOD:PUBLISH
END:VEVENT
END:VCALENDAR