BEGIN:VCALENDAR
VERSION:2.0
PRODID:spatie/icalendar-generator
DESCRIPTION:Evenementen van De vrienden van Hanepraij
X-WR-CALDESC:Evenementen van De vrienden van Hanepraij
REFRESH-INTERVAL;VALUE=DURATION:PT1440M
X-PUBLISHED-TTL:PT1440M
BEGIN:VTIMEZONE
TZID:Etc/GMT+0
BEGIN:STANDARD
DTSTART:20190226T000000Z
TZOFFSETFROM:+0000
TZOFFSETTO:+0000
END:STANDARD
END:VTIMEZONE
BEGIN:VTIMEZONE
TZID:UTC
BEGIN:STANDARD
DTSTART:20250727T180832Z
TZOFFSETFROM:+0000
TZOFFSETTO:+0000
END:STANDARD
END:VTIMEZONE
BEGIN:VEVENT
UID:38-34
DTSTAMP:20260423T180832Z
SUMMARY:De winterfair 2019
LOCATION:
ORGANIZER;CN=Hellen Sturm:MAILTO:helpdesk@studio182.nl
DTSTART;TZID=Etc/GMT+0;VALUE=DATE:20191123
DTEND;TZID=Etc/GMT+0;VALUE=DATE:20191124
X-ALT-DESC;FMTTYPE=TEXT/HTML:De winterfair wordt gehouden op zaterdag 23 no
 vember\, waarop we weer met onze stand aanwezig zijn met boterstaven en sp
 eculaas en we evenals vorig jaar lekkere wijn zullen verkopen\; geen gek i
 dee met alle feestdagen in het vooruitzicht. Direct na Sinterklaas op vrij
 dag 6 en zaterdag 7 december staan we als vanouds in de hal&amp;hellip\;
CATEGORIES:General
URL;VALUE=URI:https://vriendenvandehanepraij.nl/mc-events/de-winterfair-201
 9/
METHOD:PUBLISH
END:VEVENT
END:VCALENDAR