BEGIN:VCALENDAR
VERSION:2.0
PRODID:spatie/icalendar-generator
DESCRIPTION:Evenementen van De vrienden van Hanepraij
X-WR-CALDESC:Evenementen van De vrienden van Hanepraij
REFRESH-INTERVAL;VALUE=DURATION:PT1440M
X-PUBLISHED-TTL:PT1440M
BEGIN:VTIMEZONE
TZID:Etc/GMT+0
BEGIN:STANDARD
DTSTART:20190311T000000Z
TZOFFSETFROM:+0000
TZOFFSETTO:+0000
END:STANDARD
END:VTIMEZONE
BEGIN:VTIMEZONE
TZID:UTC
BEGIN:STANDARD
DTSTART:20250727T164028Z
TZOFFSETFROM:+0000
TZOFFSETTO:+0000
END:STANDARD
END:VTIMEZONE
BEGIN:VEVENT
UID:39-35
DTSTAMP:20260423T164028Z
SUMMARY:Verkoopactie Vrienden van de Hanepraij
LOCATION:
ORGANIZER;CN=Hellen Sturm:MAILTO:helpdesk@studio182.nl
DTSTART;TZID=Etc/GMT+0;VALUE=DATE:20191206
DTEND;TZID=Etc/GMT+0;VALUE=DATE:20191208
X-ALT-DESC;FMTTYPE=TEXT/HTML:Op 6 en 7 december gaan we weer kleine kerstbo
 ompjes verkopen. Picea conica voor € 5.00 per stuk.
CATEGORIES:General
URL;VALUE=URI:https://vriendenvandehanepraij.nl/mc-events/verkoopactie-vrie
 nden-van-de-hanepraij/
METHOD:PUBLISH
END:VEVENT
END:VCALENDAR