BEGIN:VCALENDAR
VERSION:2.0
PRODID:spatie/icalendar-generator
DESCRIPTION:Evenementen van De vrienden van Hanepraij
X-WR-CALDESC:Evenementen van De vrienden van Hanepraij
REFRESH-INTERVAL;VALUE=DURATION:PT1440M
X-PUBLISHED-TTL:PT1440M
BEGIN:VTIMEZONE
TZID:Etc/GMT+0
BEGIN:STANDARD
DTSTART:20190630T160000Z
TZOFFSETFROM:+0000
TZOFFSETTO:+0000
END:STANDARD
END:VTIMEZONE
BEGIN:VTIMEZONE
TZID:UTC
BEGIN:STANDARD
DTSTART:20250727T215458Z
TZOFFSETFROM:+0000
TZOFFSETTO:+0000
END:STANDARD
END:VTIMEZONE
BEGIN:VEVENT
UID:41-37
DTSTAMP:20260423T215458Z
SUMMARY:Algemene ledenvergadering
LOCATION:
ORGANIZER;CN=Hellen Sturm:MAILTO:helpdesk@studio182.nl
DTSTART;TZID=Etc/GMT+0:20200326T160000
DTEND;TZID=Etc/GMT+0:20200326T170000
X-ALT-DESC;FMTTYPE=TEXT/HTML:De Algemene ledenvergadering wordt gehouden op
  26 maart om 16.00 uur in het Vooronder\, begane grond.
CATEGORIES:General
URL;VALUE=URI:https://vriendenvandehanepraij.nl/mc-events/algemene-ledenver
 gadering-2/
METHOD:PUBLISH
END:VEVENT
END:VCALENDAR