BEGIN:VCALENDAR
VERSION:2.0
PRODID:spatie/icalendar-generator
DESCRIPTION:Evenementen van De vrienden van Hanepraij
X-WR-CALDESC:Evenementen van De vrienden van Hanepraij
REFRESH-INTERVAL;VALUE=DURATION:PT1440M
X-PUBLISHED-TTL:PT1440M
BEGIN:VTIMEZONE
TZID:Etc/GMT+0
BEGIN:STANDARD
DTSTART:20190716T143000Z
TZOFFSETFROM:+0000
TZOFFSETTO:+0000
END:STANDARD
END:VTIMEZONE
BEGIN:VTIMEZONE
TZID:UTC
BEGIN:STANDARD
DTSTART:20250727T232049Z
TZOFFSETFROM:+0000
TZOFFSETTO:+0000
END:STANDARD
END:VTIMEZONE
BEGIN:VEVENT
UID:44-40
DTSTAMP:20260423T232049Z
SUMMARY:Chanty koor Trossen los
LOCATION:
ORGANIZER;CN=Hellen Sturm:MAILTO:helpdesk@studio182.nl
DTSTART;TZID=Etc/GMT+0:20200411T143000
DTEND;TZID=Etc/GMT+0:20200411T160000
X-ALT-DESC;FMTTYPE=TEXT/HTML:De zaterdagmiddagmatinees: van 14.30-16.00 uur
CATEGORIES:General
URL;VALUE=URI:https://vriendenvandehanepraij.nl/mc-events/chanty-koor-tross
 en-los/
METHOD:PUBLISH
END:VEVENT
END:VCALENDAR