BEGIN:VCALENDAR
VERSION:2.0
PRODID:spatie/icalendar-generator
DESCRIPTION:Evenementen van De vrienden van Hanepraij
X-WR-CALDESC:Evenementen van De vrienden van Hanepraij
REFRESH-INTERVAL;VALUE=DURATION:PT1440M
X-PUBLISHED-TTL:PT1440M
BEGIN:VTIMEZONE
TZID:Etc/GMT+0
BEGIN:STANDARD
DTSTART:20200815T143000Z
TZOFFSETFROM:+0000
TZOFFSETTO:+0000
END:STANDARD
END:VTIMEZONE
BEGIN:VTIMEZONE
TZID:UTC
BEGIN:STANDARD
DTSTART:20250728T081619Z
TZOFFSETFROM:+0000
TZOFFSETTO:+0000
END:STANDARD
END:VTIMEZONE
BEGIN:VEVENT
UID:54-49
DTSTAMP:20260424T081619Z
SUMMARY:Buitenoptreden van Erwin Fillee en Willeke D ‘estell
LOCATION:
ORGANIZER;CN=Hellen Sturm:MAILTO:helpdesk@studio182.nl
DTSTART;TZID=Etc/GMT+0:20210512T143000
DTEND;TZID=Etc/GMT+0:20210512T153000
X-ALT-DESC;FMTTYPE=TEXT/HTML:Dit optreden wordt u aangeboden door de Vriend
 en  van de Hanepraij en live uitgezonden op kanaal 61 Aanvang: 14.30 uur
CATEGORIES:General
URL;VALUE=URI:https://vriendenvandehanepraij.nl/mc-events/buitenoptreden-va
 n-erwin-fillee-en-willeke-d-estell/
METHOD:PUBLISH
END:VEVENT
END:VCALENDAR