BEGIN:VCALENDAR
VERSION:2.0
PRODID:spatie/icalendar-generator
DESCRIPTION:Evenementen van De vrienden van Hanepraij
X-WR-CALDESC:Evenementen van De vrienden van Hanepraij
REFRESH-INTERVAL;VALUE=DURATION:PT1440M
X-PUBLISHED-TTL:PT1440M
BEGIN:VTIMEZONE
TZID:Etc/GMT+0
BEGIN:STANDARD
DTSTART:20200829T143000Z
TZOFFSETFROM:+0000
TZOFFSETTO:+0000
END:STANDARD
END:VTIMEZONE
BEGIN:VTIMEZONE
TZID:UTC
BEGIN:STANDARD
DTSTART:20250728T070030Z
TZOFFSETFROM:+0000
TZOFFSETTO:+0000
END:STANDARD
END:VTIMEZONE
BEGIN:VEVENT
UID:56-50
DTSTAMP:20260424T070030Z
SUMMARY:Buitenoptreden door Roy Alexander
LOCATION:
ORGANIZER;CN=Hellen Sturm:MAILTO:helpdesk@studio182.nl
DTSTART;TZID=Etc/GMT+0:20210526T143000
DTEND;TZID=Etc/GMT+0:20210526T153000
X-ALT-DESC;FMTTYPE=TEXT/HTML:Dit optreden wordt u aangeboden door de Vriend
 en van de Hanepraij en live uitgezonden op kanaal 61. Woensdag 26 mei - aa
 nvang: 14.30 uur
CATEGORIES:General
URL;VALUE=URI:https://vriendenvandehanepraij.nl/mc-events/buitenoptreden-do
 or-roy-alexander/
METHOD:PUBLISH
END:VEVENT
END:VCALENDAR