BEGIN:VCALENDAR
VERSION:2.0
PRODID:spatie/icalendar-generator
DESCRIPTION:Evenementen van De vrienden van Hanepraij
X-WR-CALDESC:Evenementen van De vrienden van Hanepraij
REFRESH-INTERVAL;VALUE=DURATION:PT1440M
X-PUBLISHED-TTL:PT1440M
BEGIN:VTIMEZONE
TZID:Etc/GMT+0
BEGIN:STANDARD
DTSTART:20201114T150000Z
TZOFFSETFROM:+0000
TZOFFSETTO:+0000
END:STANDARD
END:VTIMEZONE
BEGIN:VTIMEZONE
TZID:UTC
BEGIN:STANDARD
DTSTART:20250728T082036Z
TZOFFSETFROM:+0000
TZOFFSETTO:+0000
END:STANDARD
END:VTIMEZONE
BEGIN:VEVENT
UID:57-51
DTSTAMP:20260424T082036Z
SUMMARY:Optreden zevensprong
LOCATION:
ORGANIZER;CN=Hellen Sturm:MAILTO:helpdesk@studio182.nl
DTSTART;TZID=Etc/GMT+0:20210811T150000
DTEND;TZID=Etc/GMT+0:20210811T170000
X-ALT-DESC;FMTTYPE=TEXT/HTML:Buiten optreden mogelijk gemaakt door vrienden
  van de Hanepraij.
CATEGORIES:General
URL;VALUE=URI:https://vriendenvandehanepraij.nl/mc-events/optreden-zevenspr
 ong/
METHOD:PUBLISH
END:VEVENT
END:VCALENDAR