BEGIN:VCALENDAR
VERSION:2.0
PRODID:spatie/icalendar-generator
DESCRIPTION:Evenementen van De vrienden van Hanepraij
X-WR-CALDESC:Evenementen van De vrienden van Hanepraij
REFRESH-INTERVAL;VALUE=DURATION:PT1440M
X-PUBLISHED-TTL:PT1440M
BEGIN:VTIMEZONE
TZID:Etc/GMT+0
BEGIN:STANDARD
DTSTART:20201213T150000Z
TZOFFSETFROM:+0000
TZOFFSETTO:+0000
END:STANDARD
END:VTIMEZONE
BEGIN:VTIMEZONE
TZID:UTC
BEGIN:STANDARD
DTSTART:20250728T065742Z
TZOFFSETFROM:+0000
TZOFFSETTO:+0000
END:STANDARD
END:VTIMEZONE
BEGIN:VEVENT
UID:58-52
DTSTAMP:20260424T065742Z
SUMMARY:Zanger Duncan Polak
LOCATION:
ORGANIZER;CN=Hellen Sturm:MAILTO:helpdesk@studio182.nl
DTSTART;TZID=Etc/GMT+0:20210909T150000
DTEND;TZID=Etc/GMT+0:20210909T160000
X-ALT-DESC;FMTTYPE=TEXT/HTML:Zanger Duncan Polak zingt een bekend meezing r
 epertoire
CATEGORIES:General
URL;VALUE=URI:https://vriendenvandehanepraij.nl/mc-events/zanger-duncan-pol
 ak/
METHOD:PUBLISH
END:VEVENT
END:VCALENDAR