BEGIN:VCALENDAR
VERSION:2.0
PRODID:spatie/icalendar-generator
DESCRIPTION:Evenementen van De vrienden van Hanepraij
X-WR-CALDESC:Evenementen van De vrienden van Hanepraij
REFRESH-INTERVAL;VALUE=DURATION:PT1440M
X-PUBLISHED-TTL:PT1440M
BEGIN:VTIMEZONE
TZID:Etc/GMT+0
BEGIN:STANDARD
DTSTART:20210109T150000Z
TZOFFSETFROM:+0000
TZOFFSETTO:+0000
END:STANDARD
END:VTIMEZONE
BEGIN:VTIMEZONE
TZID:UTC
BEGIN:STANDARD
DTSTART:20250728T073744Z
TZOFFSETFROM:+0000
TZOFFSETTO:+0000
END:STANDARD
END:VTIMEZONE
BEGIN:VEVENT
UID:59-53
DTSTAMP:20260424T073744Z
SUMMARY:Optreden van Lodewijk de liedjesman
LOCATION:
ORGANIZER;CN=Hellen Sturm:MAILTO:helpdesk@studio182.nl
DTSTART;TZID=Etc/GMT+0:20211006T150000
DTEND;TZID=Etc/GMT+0:20211006T160000
X-ALT-DESC;FMTTYPE=TEXT/HTML:6 oktober: Optreden van Lodewijk de liedjesman
 : Van Elvis tot Claudia de Breij
CATEGORIES:General
URL;VALUE=URI:https://vriendenvandehanepraij.nl/mc-events/optreden-van-lode
 wijk-de-liedjesman/
METHOD:PUBLISH
END:VEVENT
END:VCALENDAR