BEGIN:VCALENDAR
VERSION:2.0
PRODID:spatie/icalendar-generator
DESCRIPTION:Evenementen van De vrienden van Hanepraij
X-WR-CALDESC:Evenementen van De vrienden van Hanepraij
REFRESH-INTERVAL;VALUE=DURATION:PT1440M
X-PUBLISHED-TTL:PT1440M
BEGIN:VTIMEZONE
TZID:Etc/GMT+0
BEGIN:STANDARD
DTSTART:20210313T000000Z
TZOFFSETFROM:+0000
TZOFFSETTO:+0000
END:STANDARD
END:VTIMEZONE
BEGIN:VTIMEZONE
TZID:UTC
BEGIN:STANDARD
DTSTART:20250728T070159Z
TZOFFSETFROM:+0000
TZOFFSETTO:+0000
END:STANDARD
END:VTIMEZONE
BEGIN:VEVENT
UID:61-55
DTSTAMP:20260424T070159Z
SUMMARY:Verkoop kleine kerstboompjes\, Picea Conica.
LOCATION:
ORGANIZER;CN=Hellen Sturm:MAILTO:helpdesk@studio182.nl
DTSTART;TZID=Etc/GMT+0;VALUE=DATE:20211208
DTEND;TZID=Etc/GMT+0;VALUE=DATE:20211211
X-ALT-DESC;FMTTYPE=TEXT/HTML:De kleine kerstboompjes\, Picea Conica\, daar 
 zijn ze weer\, worden wèl op 8\, 9 en 10 december verkocht in de hal voor
  €5\,--. Nee we blijven laag met de prijs\, zorg dat u er bij bent! Vori
 g jaar doneerde de leverancier 65 boompjes voor het personeel\, dus die ho
 uden we graag in ere en laten&amp;hellip\;
CATEGORIES:General
URL;VALUE=URI:https://vriendenvandehanepraij.nl/mc-events/verkoop-kleine-ke
 rstboompjes-picea-conica/
METHOD:PUBLISH
END:VEVENT
END:VCALENDAR