BEGIN:VCALENDAR
VERSION:2.0
PRODID:spatie/icalendar-generator
DESCRIPTION:Evenementen van De vrienden van Hanepraij
X-WR-CALDESC:Evenementen van De vrienden van Hanepraij
REFRESH-INTERVAL;VALUE=DURATION:PT1440M
X-PUBLISHED-TTL:PT1440M
BEGIN:VTIMEZONE
TZID:Etc/GMT+0
BEGIN:STANDARD
DTSTART:20210605T150000Z
TZOFFSETFROM:+0000
TZOFFSETTO:+0000
END:STANDARD
END:VTIMEZONE
BEGIN:VTIMEZONE
TZID:UTC
BEGIN:STANDARD
DTSTART:20250728T042605Z
TZOFFSETFROM:+0000
TZOFFSETTO:+0000
END:STANDARD
END:VTIMEZONE
BEGIN:VEVENT
UID:63-57
DTSTAMP:20260424T042605Z
SUMMARY:Woensdag 2 maart is er een diapresentatie door Corry de Jong
LOCATION:
ORGANIZER;CN=Hellen Sturm:MAILTO:helpdesk@studio182.nl
DTSTART;TZID=Etc/GMT+0:20220302T150000
DTEND;TZID=Etc/GMT+0:20220302T160000
X-ALT-DESC;FMTTYPE=TEXT/HTML:Voor de Vriendensoiree op woensdag 2 maart is 
 er een diapresentatie door Corry de Jong\, zij is gids bij de Goudse stads
 gilde en maakt prachtige foto's. En natuurlijk weet ze er van alles bij te
  vertellen. Het thema is \"Groen in Gouda\"
CATEGORIES:General
URL;VALUE=URI:https://vriendenvandehanepraij.nl/mc-events/woensdag-2-maart-
 is-er-een-diapresentatie-door-corry-de-jong/
METHOD:PUBLISH
END:VEVENT
END:VCALENDAR