BEGIN:VCALENDAR
VERSION:2.0
PRODID:spatie/icalendar-generator
DESCRIPTION:Evenementen van De vrienden van Hanepraij
X-WR-CALDESC:Evenementen van De vrienden van Hanepraij
REFRESH-INTERVAL;VALUE=DURATION:PT1440M
X-PUBLISHED-TTL:PT1440M
BEGIN:VTIMEZONE
TZID:Etc/GMT+0
BEGIN:STANDARD
DTSTART:20230107T191500Z
TZOFFSETFROM:+0000
TZOFFSETTO:+0000
END:STANDARD
END:VTIMEZONE
BEGIN:VTIMEZONE
TZID:UTC
BEGIN:STANDARD
DTSTART:20250727T231453Z
TZOFFSETFROM:+0000
TZOFFSETTO:+0000
END:STANDARD
END:VTIMEZONE
BEGIN:VEVENT
UID:79-72
DTSTAMP:20260423T231453Z
SUMMARY:Duo Aylin
LOCATION:
ORGANIZER;CN=Hellen Sturm:MAILTO:helpdesk@studio182.nl
DTSTART;TZID=Etc/GMT+0:20231004T191500
DTEND;TZID=Etc/GMT+0:20231004T210000
X-ALT-DESC;FMTTYPE=TEXT/HTML:Vrienden van De Hanepraij verzorgt de volgende
  soirees: van 19.15-21.00 uur Op 4 oktober het Duo Aylin
CATEGORIES:General
URL;VALUE=URI:https://vriendenvandehanepraij.nl/mc-events/duo-aylin/
METHOD:PUBLISH
END:VEVENT
END:VCALENDAR