BEGIN:VCALENDAR
VERSION:2.0
PRODID:spatie/icalendar-generator
DESCRIPTION:Evenementen van De vrienden van Hanepraij
X-WR-CALDESC:Evenementen van De vrienden van Hanepraij
REFRESH-INTERVAL;VALUE=DURATION:PT1440M
X-PUBLISHED-TTL:PT1440M
BEGIN:VTIMEZONE
TZID:Etc/GMT+0
BEGIN:STANDARD
DTSTART:20230204T191500Z
TZOFFSETFROM:+0000
TZOFFSETTO:+0000
END:STANDARD
END:VTIMEZONE
BEGIN:VTIMEZONE
TZID:UTC
BEGIN:STANDARD
DTSTART:20250728T004414Z
TZOFFSETFROM:+0000
TZOFFSETTO:+0000
END:STANDARD
END:VTIMEZONE
BEGIN:VEVENT
UID:80-73
DTSTAMP:20260424T004414Z
SUMMARY:Het Toverlint filmclub
LOCATION:
ORGANIZER;CN=Hellen Sturm:MAILTO:helpdesk@studio182.nl
DTSTART;TZID=Etc/GMT+0:20231101T191500
DTEND;TZID=Etc/GMT+0:20231101T210000
X-ALT-DESC;FMTTYPE=TEXT/HTML:Vrienden van De Hanepraij verzorgt de volgende
  soirees: van 19.15-21.00 uur Op 1 november Het Toverlint filmclub te Goud
 a
CATEGORIES:General
URL;VALUE=URI:https://vriendenvandehanepraij.nl/mc-events/het-toverlint-fil
 mclub/
METHOD:PUBLISH
END:VEVENT
END:VCALENDAR