BEGIN:VCALENDAR
VERSION:2.0
PRODID:spatie/icalendar-generator
DESCRIPTION:Evenementen van De vrienden van Hanepraij
X-WR-CALDESC:Evenementen van De vrienden van Hanepraij
REFRESH-INTERVAL;VALUE=DURATION:PT1440M
X-PUBLISHED-TTL:PT1440M
BEGIN:VTIMEZONE
TZID:Etc/GMT+0
BEGIN:STANDARD
DTSTART:20230228T000000Z
TZOFFSETFROM:+0000
TZOFFSETTO:+0000
END:STANDARD
END:VTIMEZONE
BEGIN:VTIMEZONE
TZID:UTC
BEGIN:STANDARD
DTSTART:20250727T232945Z
TZOFFSETFROM:+0000
TZOFFSETTO:+0000
END:STANDARD
END:VTIMEZONE
BEGIN:VEVENT
UID:82-75
DTSTAMP:20260423T232945Z
SUMMARY:Winterfair
LOCATION:
ORGANIZER;CN=Hellen Sturm:MAILTO:helpdesk@studio182.nl
DTSTART;TZID=Etc/GMT+0;VALUE=DATE:20231125
DTEND;TZID=Etc/GMT+0;VALUE=DATE:20231126
X-ALT-DESC;FMTTYPE=TEXT/HTML:'Vrienden van' zullen weer wijn\, speculaas en
  banketstaven verkopen.
CATEGORIES:General
URL;VALUE=URI:https://vriendenvandehanepraij.nl/mc-events/winterfair-2/
METHOD:PUBLISH
END:VEVENT
END:VCALENDAR