BEGIN:VCALENDAR
VERSION:2.0
PRODID:spatie/icalendar-generator
DESCRIPTION:Evenementen van De vrienden van Hanepraij
X-WR-CALDESC:Evenementen van De vrienden van Hanepraij
REFRESH-INTERVAL;VALUE=DURATION:PT1440M
X-PUBLISHED-TTL:PT1440M
BEGIN:VTIMEZONE
TZID:Etc/GMT+0
BEGIN:STANDARD
DTSTART:20230625T160000Z
TZOFFSETFROM:+0000
TZOFFSETTO:+0000
END:STANDARD
END:VTIMEZONE
BEGIN:VTIMEZONE
TZID:UTC
BEGIN:STANDARD
DTSTART:20250727T215026Z
TZOFFSETFROM:+0000
TZOFFSETTO:+0000
END:STANDARD
END:VTIMEZONE
BEGIN:VEVENT
UID:84-77
DTSTAMP:20260423T215026Z
SUMMARY:Contactmiddag donateurs
LOCATION:
ORGANIZER;CN=Hellen Sturm:MAILTO:helpdesk@studio182.nl
DTSTART;TZID=Etc/GMT+0:20240321T160000
DTEND;TZID=Etc/GMT+0:20240321T170000
X-ALT-DESC;FMTTYPE=TEXT/HTML:21 maart (lente) een contactmiddag houden voo
 r de donateurs (geen leden meer dus i.v.m. Stichting) om 16.00 uur in het 
 Vooronder.
CATEGORIES:General
URL;VALUE=URI:https://vriendenvandehanepraij.nl/mc-events/contactmiddag-don
 ateurs/
METHOD:PUBLISH
END:VEVENT
END:VCALENDAR