BEGIN:VCALENDAR
VERSION:2.0
PRODID:spatie/icalendar-generator
DESCRIPTION:Evenementen van De vrienden van Hanepraij
X-WR-CALDESC:Evenementen van De vrienden van Hanepraij
REFRESH-INTERVAL;VALUE=DURATION:PT1440M
X-PUBLISHED-TTL:PT1440M
BEGIN:VTIMEZONE
TZID:Etc/GMT+0
BEGIN:STANDARD
DTSTART:20220313T000000Z
TZOFFSETFROM:+0000
TZOFFSETTO:+0000
END:STANDARD
END:VTIMEZONE
BEGIN:VTIMEZONE
TZID:UTC
BEGIN:STANDARD
DTSTART:20250728T033306Z
TZOFFSETFROM:+0000
TZOFFSETTO:+0000
END:STANDARD
END:VTIMEZONE
BEGIN:VEVENT
UID:72-66
DTSTAMP:20260424T033306Z
SUMMARY:Verkoop van kleine kerstboompjes
LOCATION:
ORGANIZER;CN=Hellen Sturm:MAILTO:helpdesk@studio182.nl
DTSTART;TZID=Etc/GMT+0;VALUE=DATE:20221208
DTEND;TZID=Etc/GMT+0;VALUE=DATE:20221210
X-ALT-DESC;FMTTYPE=TEXT/HTML:Op donderdag 8 en vrijdag 9 december is er wee
 r verkoop van kleine kerstboompjes (Picea Conica) à 5\,—euro.
CATEGORIES:General
URL;VALUE=URI:https://vriendenvandehanepraij.nl/mc-events/verkoop-van-klein
 e-kerstboompjes/
METHOD:PUBLISH
END:VEVENT
END:VCALENDAR