BEGIN:VCALENDAR
VERSION:2.0
PRODID:spatie/icalendar-generator
DESCRIPTION:Evenementen van De vrienden van Hanepraij
X-WR-CALDESC:Evenementen van De vrienden van Hanepraij
REFRESH-INTERVAL;VALUE=DURATION:PT1440M
X-PUBLISHED-TTL:PT1440M
BEGIN:VTIMEZONE
TZID:Etc/GMT+0
BEGIN:STANDARD
DTSTART:20230312T000000Z
TZOFFSETFROM:+0000
TZOFFSETTO:+0000
END:STANDARD
END:VTIMEZONE
BEGIN:VTIMEZONE
TZID:UTC
BEGIN:STANDARD
DTSTART:20250727T215820Z
TZOFFSETFROM:+0000
TZOFFSETTO:+0000
END:STANDARD
END:VTIMEZONE
BEGIN:VEVENT
UID:83-76
DTSTAMP:20260423T215820Z
SUMMARY:7 en 8 December verkoop kleine kerstboompjes
LOCATION:
ORGANIZER;CN=Hellen Sturm:MAILTO:helpdesk@studio182.nl
DTSTART;TZID=Etc/GMT+0;VALUE=DATE:20231207
DTEND;TZID=Etc/GMT+0;VALUE=DATE:20231209
X-ALT-DESC;FMTTYPE=TEXT/HTML:7 en 8 December verkopen we weer kleine kerstb
 oompjes Picea Conica à € 5\,-.
CATEGORIES:General
URL;VALUE=URI:https://vriendenvandehanepraij.nl/mc-events/7-en-8-december-v
 erkoop-kleine-kerstboompjes/
METHOD:PUBLISH
END:VEVENT
END:VCALENDAR