BEGIN:VCALENDAR
VERSION:2.0
PRODID:spatie/icalendar-generator
DESCRIPTION:Evenementen van De vrienden van Hanepraij
X-WR-CALDESC:Evenementen van De vrienden van Hanepraij
REFRESH-INTERVAL;VALUE=DURATION:PT1440M
X-PUBLISHED-TTL:PT1440M
BEGIN:VTIMEZONE
TZID:Etc/GMT+0
BEGIN:STANDARD
DTSTART:20230610T191500Z
TZOFFSETFROM:+0000
TZOFFSETTO:+0000
END:STANDARD
END:VTIMEZONE
BEGIN:VTIMEZONE
TZID:UTC
BEGIN:STANDARD
DTSTART:20250727T215458Z
TZOFFSETFROM:+0000
TZOFFSETTO:+0000
END:STANDARD
END:VTIMEZONE
BEGIN:VEVENT
UID:85-78
DTSTAMP:20260423T215458Z
SUMMARY:Bigband ToBe
LOCATION:
ORGANIZER;CN=Hellen Sturm:MAILTO:helpdesk@studio182.nl
DTSTART;TZID=Etc/GMT+0:20240306T191500
DTEND;TZID=Etc/GMT+0:20240306T201500
X-ALT-DESC;FMTTYPE=TEXT/HTML:Vriendensoireeconcerten 2024 19.15- 21.00 uur
CATEGORIES:General
URL;VALUE=URI:https://vriendenvandehanepraij.nl/mc-events/bigband-tobe/
METHOD:PUBLISH
END:VEVENT
END:VCALENDAR